BEGIN:VCALENDAR
VERSION:2.0
PRODID:-//Cosmetics New Zealand - ECPv4.6.10//NONSGML v1.0//EN
CALSCALE:GREGORIAN
METHOD:PUBLISH
X-WR-CALNAME:Cosmetics New Zealand
X-ORIGINAL-URL:https://www.cosmeticsnewzealand.org.nz
X-WR-CALDESC:Events for Cosmetics New Zealand
BEGIN:VEVENT
DTSTART;TZID=UTC+12:20180215T100000
DTEND;TZID=UTC+12:20180215T120000
DTSTAMP:20180124T144638
CREATED:20170822T031033Z
LAST-MODIFIED:20170822T031033Z
UID:1482-1518688800-1518696000@www.cosmeticsnewzealand.org.nz
SUMMARY:Executive Meeting
DESCRIPTION:The first Executive meeting of the calendar year is scheduled for February and is for Executive members only. \n
URL:https://www.cosmeticsnewzealand.org.nz/event/executive-meeting-3/
LOCATION:145 Khyber Pass Road\, Auckland\, 1142
CATEGORIES:Meetings
ORGANIZER;CN="John%20Banks":MAILTO:admin@ctfa.org.nz
END:VEVENT
BEGIN:VEVENT
DTSTART;TZID=UTC+12:20180301T130000
DTEND;TZID=UTC+12:20180301T160000
DTSTAMP:20180124T144638
CREATED:20170822T032415Z
LAST-MODIFIED:20170822T033121Z
UID:1485-1519909200-1519920000@www.cosmeticsnewzealand.org.nz
SUMMARY:Technical & Regulatory Briefing
DESCRIPTION:This year we are holding the regional briefing session in Nelson\, rather than Wellington and Christchurch.\nAs always the meeting will cover both consumer law changes and regulatory matters that will affect members.\nGarth will also cover any significant international issues that may affect members. \n
URL:https://www.cosmeticsnewzealand.org.nz/event/technical-regulatory-briefing/
LOCATION:27 Nile St West\, Nelson\, New Zealand
CATEGORIES:Seminars
ORGANIZER;CN="John%20Banks":MAILTO:admin@ctfa.org.nz
END:VEVENT
BEGIN:VEVENT
DTSTART;TZID=UTC+12:20180405T100000
DTEND;TZID=UTC+12:20180405T120000
DTSTAMP:20180124T144638
CREATED:20170822T033034Z
LAST-MODIFIED:20170822T033209Z
UID:1490-1522922400-1522929600@www.cosmeticsnewzealand.org.nz
SUMMARY:Executive Meeting
DESCRIPTION:The second Executive meeting for the 2018 calendar year. \n
URL:https://www.cosmeticsnewzealand.org.nz/event/executive-meeting-4/
CATEGORIES:Meetings
END:VEVENT
BEGIN:VEVENT
DTSTART;TZID=UTC+12:20180412T100000
DTEND;TZID=UTC+12:20180412T120000
DTSTAMP:20180124T144638
CREATED:20170822T033542Z
LAST-MODIFIED:20170921T005918Z
UID:1495-1523527200-1523534400@www.cosmeticsnewzealand.org.nz
SUMMARY:Technical & Regulatory Seminar
DESCRIPTION:This event is the first of the Auckland Tech / Reg seminars of the year and all members are recommended to attend. \nFor those unable to attend there will be a webinar later in the day. Details to be sent March 2018. \n
URL:https://www.cosmeticsnewzealand.org.nz/event/technical-regulatory-seminar/
LOCATION:145 Khyber Pass Road\, Auckland\, 1142
CATEGORIES:Seminars
ORGANIZER;CN="John%20Banks":MAILTO:admin@ctfa.org.nz
END:VEVENT
BEGIN:VEVENT
DTSTART;TZID=UTC+12:20180606T100000
DTEND;TZID=UTC+12:20180606T120000
DTSTAMP:20180124T144638
CREATED:20170823T223130Z
LAST-MODIFIED:20170823T223130Z
UID:1506-1528279200-1528286400@www.cosmeticsnewzealand.org.nz
SUMMARY:Executive Meeting
DESCRIPTION:This meeting will be held just prior to the AGM. \n
URL:https://www.cosmeticsnewzealand.org.nz/event/executive-meeting-5/
LOCATION:145 Khyber Pass Road\, Auckland\, 1142
CATEGORIES:Meetings
END:VEVENT
BEGIN:VEVENT
DTSTART;TZID=UTC+12:20180606T123000
DTEND;TZID=UTC+12:20180606T133000
DTSTAMP:20180124T144638
CREATED:20170823T223640Z
LAST-MODIFIED:20170823T223640Z
UID:1509-1528288200-1528291800@www.cosmeticsnewzealand.org.nz
SUMMARY:Annual General Meeting
DESCRIPTION:The AGM will commence at 12.30 pm\, following a light lunch.\nShould full members not be able to attend\, please complete the proxy form that accompanies the AGM notification and agenda. \n
URL:https://www.cosmeticsnewzealand.org.nz/event/annual-general-meeting/
LOCATION:145 Khyber Pass Road\, Auckland\, 1142
CATEGORIES:Meetings
ORGANIZER;CN="John%20Banks":MAILTO:admin@ctfa.org.nz
END:VEVENT
BEGIN:VEVENT
DTSTART;VALUE=DATE:20180607
DTEND;VALUE=DATE:20180608
DTSTAMP:20180124T144638
CREATED:20170823T224427Z
LAST-MODIFIED:20170823T224608Z
UID:1511-1528329600-1528415999@www.cosmeticsnewzealand.org.nz
SUMMARY:Cosmetics New Zealand 2018 Conference
DESCRIPTION:The 2018 Conference will be held at the Pullman Hotel Auckland.\nFull details and the registration form will be emailed to members early in 2018. \n
URL:https://www.cosmeticsnewzealand.org.nz/event/cosmetics-new-zealand-2018-conference/
LOCATION:Cnr Waterloo Quadrant and Princes St\, Auckland\, 1023
CATEGORIES:Conferences
ORGANIZER;CN="John%20Banks":MAILTO:admin@ctfa.org.nz
END:VEVENT
END:VCALENDAR